BEGIN:VCALENDAR
VERSION:2.0
PRODID:-//ChamberMaster//Event Calendar 2.0//EN
METHOD:PUBLISH
X-PUBLISHED-TTL:P1H
REFRESH-INTERVAL:P1H
CALSCALE:GREGORIAN
BEGIN:VTIMEZONE
TZID:America/New_York
BEGIN:DAYLIGHT
RRULE:FREQ=YEARLY;BYMONTH=3;BYDAY=2SU
DTSTART:20070101T000000
TZOFFSETFROM:-0500
TZOFFSETTO:-0400
TZNAME:Eastern Daylight Time
END:DAYLIGHT
BEGIN:STANDARD
RRULE:FREQ=YEARLY;BYMONTH=11;BYDAY=1SU
DTSTART:20070101T000000
TZOFFSETFROM:-0400
TZOFFSETTO:-0500
TZNAME:Eastern Standard Time
END:STANDARD
END:VTIMEZONE
BEGIN:VEVENT
DTSTART;TZID=America/New_York:20260617T093000
DTEND;TZID=America/New_York:20260617T140000
X-MICROSOFT-CDO-ALLDAYEVENT:FALSE
SUMMARY:2026 MTWFA PDS - Storm Response Rigging
DESCRIPTION:This session will show videos of the injury disaster potential and lack of control from approaching wires and trees under tension in storm conditions the traditional way and why the practice doesn’t exactly provide safety to the extent needed. New industry approaches to solving these hazards will be shown with methods that are much more predictable\, controlled\, and proven successful during Hurricane Helene along with sharing some case studies of jobs that went wrong and why. This session will feature real recreated scenarios with wood stem piece and wires established. The field portion allows one to see how it is rigged and how we achieve the lowered risk and predictable control. 4 CEUs Pending.
X-ALT-DESC;FMTTYPE=text/html:This session will show videos of the injury disaster potential and lack of control from approaching wires and trees under tension in storm conditions the traditional way and why the practice doesn’t exactly provide safety to the extent needed. New industry approaches to solving these hazards will be shown with methods that are much more predictable\, controlled\, and proven successful during Hurricane Helene along with sharing some case studies of jobs that went wrong and why. This session will feature real recreated scenarios with wood stem piece and wires established. The field portion allows one to see how it is rigged and how we achieve the lowered risk and predictable control. 4 CEUs Pending.
LOCATION:440 Talcott Ave Watertown MA 02472
UID:e.4069.1449231
SEQUENCE:3
DTSTAMP:20260425T102613Z
URL:https://members.masstreewardens.org/eventcalendar/Details/2026-mtwfa-pds-storm-response-rigging-1716547?sourceTypeId=Hub
END:VEVENT
END:VCALENDAR
